BEGIN:VCALENDAR
VERSION:2.0
PRODID:-//TÜRKİYE GELENEKSEL ATLI SPOR DALLARI FEDERASYONU - ECPv6.14.2//NONSGML v1.0//EN
CALSCALE:GREGORIAN
METHOD:PUBLISH
X-ORIGINAL-URL:https://www.tgasdf.gov.tr
X-WR-CALDESC:TÜRKİYE GELENEKSEL ATLI SPOR DALLARI FEDERASYONU için etkinlikler
REFRESH-INTERVAL;VALUE=DURATION:PT1H
X-Robots-Tag:noindex
X-PUBLISHED-TTL:PT1H
BEGIN:VTIMEZONE
TZID:Europe/Moscow
BEGIN:STANDARD
TZOFFSETFROM:+0300
TZOFFSETTO:+0300
TZNAME:MSK
DTSTART:20260101T000000
END:STANDARD
END:VTIMEZONE
BEGIN:VEVENT
DTSTART;TZID=Europe/Moscow:20260425T080000
DTEND;TZID=Europe/Moscow:20260426T170000
DTSTAMP:20260424T202257
CREATED:20260217T111107Z
LAST-MODIFIED:20260317T100818Z
UID:5615-1777104000-1777222800@www.tgasdf.gov.tr
SUMMARY:Atlı Okçuluk Akademik Eğitim Çalıştayı 2026 | 25-26 Nisan 2026
DESCRIPTION:
URL:https://www.tgasdf.gov.tr/takvim/atli-okculuk-akademik-egitim-calistayi-2026-25-26-nisan-2026/
CATEGORIES:Atlı Okçuluk 2026
END:VEVENT
BEGIN:VEVENT
DTSTART;TZID=Europe/Moscow:20260425T090000
DTEND;TZID=Europe/Moscow:20260425T170000
DTSTAMP:20260424T202257
CREATED:20260402T072024Z
LAST-MODIFIED:20260402T075937Z
UID:5857-1777107600-1777136400@www.tgasdf.gov.tr
SUMMARY:TGASDF Atlı Okçuluk 2026 Yılı Çalıştayı
DESCRIPTION:
URL:https://www.tgasdf.gov.tr/takvim/tgasdf-atli-okculuk-2026-yili-calistayi/
LOCATION:ANKARA
CATEGORIES:Atlı Okçuluk 2026
END:VEVENT
BEGIN:VEVENT
DTSTART;TZID=Europe/Moscow:20260426T080000
DTEND;TZID=Europe/Moscow:20260426T170000
DTSTAMP:20260424T202257
CREATED:20260331T090800Z
LAST-MODIFIED:20260331T090800Z
UID:5742-1777190400-1777222800@www.tgasdf.gov.tr
SUMMARY:Rahvan Binicilik Belediye Müsabakaları 26.04.2026 | Honaz-Denizli
DESCRIPTION:
URL:https://www.tgasdf.gov.tr/takvim/rahvan-binicilik-belediye-musabakalari-26-04-2026-honaz-denizli/
LOCATION:DENİZLİ
END:VEVENT
END:VCALENDAR