BEGIN:VCALENDAR
VERSION:2.0
PRODID:-//TÜRKİYE GELENEKSEL ATLI SPOR DALLARI FEDERASYONU - ECPv6.14.2//NONSGML v1.0//EN
CALSCALE:GREGORIAN
METHOD:PUBLISH
X-ORIGINAL-URL:https://www.tgasdf.gov.tr
X-WR-CALDESC:TÜRKİYE GELENEKSEL ATLI SPOR DALLARI FEDERASYONU için etkinlikler
REFRESH-INTERVAL;VALUE=DURATION:PT1H
X-Robots-Tag:noindex
X-PUBLISHED-TTL:PT1H
BEGIN:VTIMEZONE
TZID:Europe/Moscow
BEGIN:STANDARD
TZOFFSETFROM:+0300
TZOFFSETTO:+0300
TZNAME:MSK
DTSTART:20240101T000000
END:STANDARD
END:VTIMEZONE
BEGIN:VEVENT
DTSTART;TZID=Europe/Moscow:20241006T093000
DTEND;TZID=Europe/Moscow:20241006T170000
DTSTAMP:20260425T233642
CREATED:20240509T090020Z
LAST-MODIFIED:20240509T090020Z
UID:3828-1728207000-1728234000@www.tgasdf.gov.tr
SUMMARY:Mardin EKİM 2024 RAHVAN BİNİCİLİK MÜSABAKALARI
DESCRIPTION:Mardin EKİM 2024 RAHVAN BİNİCİLİK MÜSABAKALARI \n  \n06 EKİM 2024 MARDİN \n 
URL:https://www.tgasdf.gov.tr/takvim/mardin-ekim-2024-rahvan-binicilik-musabakalari/
LOCATION:MARDİN
END:VEVENT
BEGIN:VEVENT
DTSTART;TZID=Europe/Moscow:20241013T080000
DTEND;TZID=Europe/Moscow:20241013T170000
DTSTAMP:20260425T233642
CREATED:20240509T090236Z
LAST-MODIFIED:20240509T090236Z
UID:3831-1728806400-1728838800@www.tgasdf.gov.tr
SUMMARY:Side /ANTALYA EKİM 2024 RAHVAN BİNİCİLİK MÜSABAKALARI
DESCRIPTION:Side /ANTALYA EKİM 2024 RAHVAN BİNİCİLİK MÜSABAKALARI \n  \n13 EKİM PAZAR SİDE /ANTALYA
URL:https://www.tgasdf.gov.tr/takvim/side-antalya-ekim-2024-rahvan-binicilik-musabakalari/
LOCATION:SİDE | ANTALYA
END:VEVENT
BEGIN:VEVENT
DTSTART;TZID=Europe/Moscow:20241027T093000
DTEND;TZID=Europe/Moscow:20241027T170000
DTSTAMP:20260425T233642
CREATED:20240509T090435Z
LAST-MODIFIED:20240509T091707Z
UID:3834-1730021400-1730048400@www.tgasdf.gov.tr
SUMMARY:Nazilli / AYDIN EKİM 2024 RAHVAN BİNİCİLİK MÜSABAKALARI
DESCRIPTION:Nazilli / AYDIN EKİM 2024 RAHVAN BİNİCİLİK MÜSABAKALARI \n  \n27 EKİM 2024 NAZİLLİ / AYDIN
URL:https://www.tgasdf.gov.tr/takvim/nazilli-aydin-ekim-2024-rahvan-binicilik-musabakalari/
LOCATION:NAZİLLİ | AYDIN
END:VEVENT
END:VCALENDAR