BEGIN:VCALENDAR
VERSION:2.0
PRODID:-//TÜRKİYE GELENEKSEL ATLI SPOR DALLARI FEDERASYONU - ECPv6.14.2//NONSGML v1.0//EN
CALSCALE:GREGORIAN
METHOD:PUBLISH
X-ORIGINAL-URL:https://www.tgasdf.gov.tr
X-WR-CALDESC:TÜRKİYE GELENEKSEL ATLI SPOR DALLARI FEDERASYONU için etkinlikler
REFRESH-INTERVAL;VALUE=DURATION:PT1H
X-Robots-Tag:noindex
X-PUBLISHED-TTL:PT1H
BEGIN:VTIMEZONE
TZID:Europe/Moscow
BEGIN:STANDARD
TZOFFSETFROM:+0300
TZOFFSETTO:+0300
TZNAME:MSK
DTSTART:20240101T000000
END:STANDARD
END:VTIMEZONE
BEGIN:VEVENT
DTSTART;TZID=Europe/Moscow:20240901T093000
DTEND;TZID=Europe/Moscow:20240901T170000
DTSTAMP:20260426T010448
CREATED:20240509T084642Z
LAST-MODIFIED:20240509T084642Z
UID:3809-1725183000-1725210000@www.tgasdf.gov.tr
SUMMARY:Ardahan EYLÜL 2024 RAHVAN BİNİCİLİK MÜSABAKALARI
DESCRIPTION:01 Eylül 2024 Ardahan
URL:https://www.tgasdf.gov.tr/takvim/ardahan-eylul-2024-rahvan-binicilik-musabakalari/
LOCATION:ARDAHAN
END:VEVENT
BEGIN:VEVENT
DTSTART;TZID=Europe/Moscow:20240901T093000
DTEND;TZID=Europe/Moscow:20240901T170000
DTSTAMP:20260426T010448
CREATED:20240509T092623Z
LAST-MODIFIED:20240509T092623Z
UID:3848-1725183000-1725210000@www.tgasdf.gov.tr
SUMMARY:Tavas / DENİZLİ EYLÜL 2024 RAHVAN BİNİCİLİK MÜSABAKALARI
DESCRIPTION:Tavas / DENİZLİ EYLÜL 2024 RAHVAN BİNİCİLİK MÜSABAKALARI \n  \n01 EYLÜL 2024 TAVAS / DENİZLİ
URL:https://www.tgasdf.gov.tr/takvim/tavas-denizli-eylul-2024-rahvan-binicilik-musabakalari/
LOCATION:TAVAS | DENİZLİ
END:VEVENT
BEGIN:VEVENT
DTSTART;TZID=Europe/Moscow:20240908T093000
DTEND;TZID=Europe/Moscow:20240908T170000
DTSTAMP:20260426T010448
CREATED:20240509T084825Z
LAST-MODIFIED:20240509T084825Z
UID:3812-1725787800-1725814800@www.tgasdf.gov.tr
SUMMARY:Erzurum EYLÜL 2024 RAHVAN BİNİCİLİK MÜSABAKALARI
DESCRIPTION:08 Eylül 2024 Erzurum
URL:https://www.tgasdf.gov.tr/takvim/erzurum-eylul-2024-rahvan-binicilik-musabakalari/
LOCATION:ERZURUM
END:VEVENT
BEGIN:VEVENT
DTSTART;TZID=Europe/Moscow:20240908T093000
DTEND;TZID=Europe/Moscow:20240908T170000
DTSTAMP:20260426T010448
CREATED:20240509T092846Z
LAST-MODIFIED:20240509T092846Z
UID:3851-1725787800-1725814800@www.tgasdf.gov.tr
SUMMARY:Orhaneli/BURSA 2024 EYLÜL RAHVAN BİNİCİLİK MÜSABAKALARI
DESCRIPTION:Orhaneli/BURSA 2024 EYLÜL RAHVAN BİNİCİLİK MÜSABAKALARI \n  \n08 EYLÜL 2024 ORHANELİ / BURSA
URL:https://www.tgasdf.gov.tr/takvim/orhaneli-bursa-2024-eylul-rahvan-binicilik-musabakalari/
LOCATION:ORHANELİ | BURSA
END:VEVENT
BEGIN:VEVENT
DTSTART;TZID=Europe/Moscow:20240915T093000
DTEND;TZID=Europe/Moscow:20240915T170000
DTSTAMP:20260426T010448
CREATED:20240509T085014Z
LAST-MODIFIED:20240509T085014Z
UID:3815-1726392600-1726419600@www.tgasdf.gov.tr
SUMMARY:Ödemiş/İZMİR EYLÜL 2024 RAHVAN BİNİCİLİK MÜSABAKALARI
DESCRIPTION:15 Eylül 2024 Ödemiş/İzmir
URL:https://www.tgasdf.gov.tr/takvim/odemis-izmir-eylul-2024-rahvan-binicilik-musabakalari/
LOCATION:ÖDEMİŞ | İZMİR
END:VEVENT
BEGIN:VEVENT
DTSTART;TZID=Europe/Moscow:20240915T093000
DTEND;TZID=Europe/Moscow:20240915T170000
DTSTAMP:20260426T010448
CREATED:20240509T085143Z
LAST-MODIFIED:20240509T085424Z
UID:3818-1726392600-1726419600@www.tgasdf.gov.tr
SUMMARY:Çarşamba/SAMSUN EYLÜL 2024 RAHVAN BİNİCİLİK MÜSABAKALARI
DESCRIPTION:15 EYLÜL 2024 ÇARŞAMBA / SAMSUN
URL:https://www.tgasdf.gov.tr/takvim/carsamba-samsun-eylul-2024-rahvan-binicilik-musabakalari/
LOCATION:ÇARŞAMBA | SAMSUN
END:VEVENT
BEGIN:VEVENT
DTSTART;TZID=Europe/Moscow:20240922T093000
DTEND;TZID=Europe/Moscow:20240922T170000
DTSTAMP:20260426T010448
CREATED:20240509T085615Z
LAST-MODIFIED:20240509T085615Z
UID:3821-1726997400-1727024400@www.tgasdf.gov.tr
SUMMARY:Osmancık/ÇORUM EYLÜL 2024 RAHVAN BİNİCİLİK MÜSABAKALARI
DESCRIPTION:22 EYLÜL 2024 OSMANCIK / ÇORUM
URL:https://www.tgasdf.gov.tr/takvim/osmancik-corum-eylul-2024-rahvan-binicilik-musabakalari/
LOCATION:OSMANCIK | ÇORUM
END:VEVENT
BEGIN:VEVENT
DTSTART;TZID=Europe/Moscow:20240929T090000
DTEND;TZID=Europe/Moscow:20240929T170000
DTSTAMP:20260426T010448
CREATED:20240509T085750Z
LAST-MODIFIED:20240509T085750Z
UID:3825-1727600400-1727629200@www.tgasdf.gov.tr
SUMMARY:Menemen/İZMİR EYLÜL 2024 RAHVAN BİNİCİLİK MÜSABAKALARI
DESCRIPTION:Menemen/İZMİR EYLÜL 2024 RAHVAN BİNİCİLİK MÜSABAKALARI \n  \n29 EYLÜL 2024 MENEMEN / İZMİR
URL:https://www.tgasdf.gov.tr/takvim/menemen-izmir-eylul-2024-rahvan-binicilik-musabakalari/
LOCATION:MENEMEN | İZMİR
END:VEVENT
END:VCALENDAR