BEGIN:VCALENDAR
VERSION:2.0
PRODID:-//TÜRKİYE GELENEKSEL ATLI SPOR DALLARI FEDERASYONU - ECPv6.14.2//NONSGML v1.0//EN
CALSCALE:GREGORIAN
METHOD:PUBLISH
X-WR-CALNAME:TÜRKİYE GELENEKSEL ATLI SPOR DALLARI FEDERASYONU
X-ORIGINAL-URL:https://www.tgasdf.gov.tr
X-WR-CALDESC:TÜRKİYE GELENEKSEL ATLI SPOR DALLARI FEDERASYONU için etkinlikler
REFRESH-INTERVAL;VALUE=DURATION:PT1H
X-Robots-Tag:noindex
X-PUBLISHED-TTL:PT1H
BEGIN:VTIMEZONE
TZID:Europe/Moscow
BEGIN:STANDARD
TZOFFSETFROM:+0300
TZOFFSETTO:+0300
TZNAME:MSK
DTSTART:20240101T000000
END:STANDARD
END:VTIMEZONE
BEGIN:VEVENT
DTSTART;TZID=Europe/Moscow:20240707T093000
DTEND;TZID=Europe/Moscow:20240707T170000
DTSTAMP:20260426T035605
CREATED:20240509T091825Z
LAST-MODIFIED:20240509T091936Z
UID:3837-1720344600-1720371600@www.tgasdf.gov.tr
SUMMARY:Çarşamba/SAMSUN TEMMUZ 2024 RAHVAN BİNİCİLİK MÜSABAKALARI
DESCRIPTION:Çarşamba/SAMSUN TEMMUZ 2024 RAHVAN BİNİCİLİK MÜSABAKALARI \n  \n07 TEMMUZ 2024 ÇARŞAMBA /SAMSUN
URL:https://www.tgasdf.gov.tr/takvim/carsamba-samsun-temmuz-2024-rahvan-binicilik-musabakalari/
LOCATION:ÇARŞAMBA | SAMSUN
END:VEVENT
BEGIN:VEVENT
DTSTART;TZID=Europe/Moscow:20240713T093000
DTEND;TZID=Europe/Moscow:20240713T170000
DTSTAMP:20260426T035605
CREATED:20240509T092133Z
LAST-MODIFIED:20240509T092133Z
UID:3839-1720863000-1720890000@www.tgasdf.gov.tr
SUMMARY:Korgan/ORDU TEMMUZ 2024 RAHVAN BİNİCİLİK MÜSABAKALARI
DESCRIPTION:PENÇİK Yaylası Korgan/ORDU TEMMUZ 2024 RAHVAN BİNİCİLİK MÜSABAKALARI \n  \n13 TEMMUZ 2024 PENCİK YAYLASI KORGAN / ORDU
URL:https://www.tgasdf.gov.tr/takvim/korgan-ordu-temmuz-2024-rahvan-binicilik-musabakalari/
LOCATION:KORGAN | ORDU
END:VEVENT
BEGIN:VEVENT
DTSTART;TZID=Europe/Moscow:20240728T093000
DTEND;TZID=Europe/Moscow:20240728T170000
DTSTAMP:20260426T035605
CREATED:20240509T092323Z
LAST-MODIFIED:20240509T092323Z
UID:3842-1722159000-1722186000@www.tgasdf.gov.tr
SUMMARY:Karapürçek/BALIKESİR TEMMUZ 2024 RAHVAN BİNİCİLİK MÜSABAKALARI
DESCRIPTION:Karapürçek/BALIKESİR TEMMUZ 2024 RAHVAN BİNİCİLİK MÜSABAKALARI \n  \n28 TEMMUZ 2024 KARAPÜRÇEK / BALIKESİR
URL:https://www.tgasdf.gov.tr/takvim/karapurcek-balikesir-temmuz-2024-rahvan-binicilik-musabakalari/
LOCATION:KARAPÜRÇEK | BALIKESİR
END:VEVENT
END:VCALENDAR