BEGIN:VCALENDAR
VERSION:2.0
PRODID:-//TÜRKİYE GELENEKSEL ATLI SPOR DALLARI FEDERASYONU - ECPv6.14.2//NONSGML v1.0//EN
CALSCALE:GREGORIAN
METHOD:PUBLISH
X-WR-CALNAME:TÜRKİYE GELENEKSEL ATLI SPOR DALLARI FEDERASYONU
X-ORIGINAL-URL:https://www.tgasdf.gov.tr
X-WR-CALDESC:TÜRKİYE GELENEKSEL ATLI SPOR DALLARI FEDERASYONU için etkinlikler
REFRESH-INTERVAL;VALUE=DURATION:PT1H
X-Robots-Tag:noindex
X-PUBLISHED-TTL:PT1H
BEGIN:VTIMEZONE
TZID:Europe/Moscow
BEGIN:STANDARD
TZOFFSETFROM:+0300
TZOFFSETTO:+0300
TZNAME:MSK
DTSTART:20250101T000000
END:STANDARD
END:VTIMEZONE
BEGIN:VEVENT
DTSTART;TZID=Europe/Moscow:20250613T100000
DTEND;TZID=Europe/Moscow:20250613T180000
DTSTAMP:20260425T135803
CREATED:20250613T130803Z
LAST-MODIFIED:20250613T130803Z
UID:4866-1749808800-1749837600@www.tgasdf.gov.tr
SUMMARY:RAHVAN BİNİCİLİK MÜSABAKASI (BELEDİYE) DENİZLİ | 15.06.2025
DESCRIPTION:
URL:https://www.tgasdf.gov.tr/takvim/rahvan-binicilik-musabakasi-belediye-denizli-15-06-2025/
LOCATION:DENİZLİ
END:VEVENT
END:VCALENDAR