BEGIN:VCALENDAR
VERSION:2.0
PRODID:-//TÜRKİYE GELENEKSEL ATLI SPOR DALLARI FEDERASYONU - ECPv6.14.2//NONSGML v1.0//EN
CALSCALE:GREGORIAN
METHOD:PUBLISH
X-WR-CALNAME:TÜRKİYE GELENEKSEL ATLI SPOR DALLARI FEDERASYONU
X-ORIGINAL-URL:https://www.tgasdf.gov.tr
X-WR-CALDESC:TÜRKİYE GELENEKSEL ATLI SPOR DALLARI FEDERASYONU için etkinlikler
REFRESH-INTERVAL;VALUE=DURATION:PT1H
X-Robots-Tag:noindex
X-PUBLISHED-TTL:PT1H
BEGIN:VTIMEZONE
TZID:Europe/Moscow
BEGIN:STANDARD
TZOFFSETFROM:+0300
TZOFFSETTO:+0300
TZNAME:MSK
DTSTART:20250101T000000
END:STANDARD
END:VTIMEZONE
BEGIN:VEVENT
DTSTART;TZID=Europe/Moscow:20250504T080000
DTEND;TZID=Europe/Moscow:20250504T180000
DTSTAMP:20260425T151813
CREATED:20250616T074037Z
LAST-MODIFIED:20250616T074037Z
UID:5004-1746345600-1746381600@www.tgasdf.gov.tr
SUMMARY:RAHVAN BİNİCİLİK MÜSABAKASI (BELEDİYE) İZMİR
DESCRIPTION:
URL:https://www.tgasdf.gov.tr/takvim/rahvan-binicilik-musabakasi-belediye-izmir/
LOCATION:İZMİR
END:VEVENT
BEGIN:VEVENT
DTSTART;TZID=Europe/Moscow:20250504T080000
DTEND;TZID=Europe/Moscow:20250504T180000
DTSTAMP:20260425T151813
CREATED:20250616T074153Z
LAST-MODIFIED:20250616T074153Z
UID:5007-1746345600-1746381600@www.tgasdf.gov.tr
SUMMARY:ATLI CİRİT ADAY HAKEM KURSU UŞAK
DESCRIPTION:
URL:https://www.tgasdf.gov.tr/takvim/atli-cirit-aday-hakem-kursu-usak/
LOCATION:UŞAK
END:VEVENT
END:VCALENDAR