BEGIN:VCALENDAR
VERSION:2.0
PRODID:-//TÜRKİYE GELENEKSEL ATLI SPOR DALLARI FEDERASYONU - ECPv6.14.2//NONSGML v1.0//EN
CALSCALE:GREGORIAN
METHOD:PUBLISH
X-WR-CALNAME:TÜRKİYE GELENEKSEL ATLI SPOR DALLARI FEDERASYONU
X-ORIGINAL-URL:https://www.tgasdf.gov.tr
X-WR-CALDESC:TÜRKİYE GELENEKSEL ATLI SPOR DALLARI FEDERASYONU için etkinlikler
REFRESH-INTERVAL;VALUE=DURATION:PT1H
X-Robots-Tag:noindex
X-PUBLISHED-TTL:PT1H
BEGIN:VTIMEZONE
TZID:Europe/Moscow
BEGIN:STANDARD
TZOFFSETFROM:+0300
TZOFFSETTO:+0300
TZNAME:MSK
DTSTART:20250101T000000
END:STANDARD
END:VTIMEZONE
BEGIN:VEVENT
DTSTART;TZID=Europe/Moscow:20250427T080000
DTEND;TZID=Europe/Moscow:20250427T170000
DTSTAMP:20260425T170210
CREATED:20250616T073908Z
LAST-MODIFIED:20250616T073908Z
UID:5000-1745740800-1745773200@www.tgasdf.gov.tr
SUMMARY:RAHVAN BİNİCİLİK MÜSABAKASI (BELEDİYE) BURSA
DESCRIPTION:
URL:https://www.tgasdf.gov.tr/takvim/rahvan-binicilik-musabakasi-belediye-bursa/
LOCATION:BURSA
END:VEVENT
BEGIN:VEVENT
DTSTART;TZID=Europe/Moscow:20250427T080000
DTEND;TZID=Europe/Moscow:20250427T180000
DTSTAMP:20260425T170210
CREATED:20250616T073815Z
LAST-MODIFIED:20250616T073815Z
UID:4998-1745740800-1745776800@www.tgasdf.gov.tr
SUMMARY:ATLI CİRİT ADAY HAKEM KURSU ERZURUM
DESCRIPTION:
URL:https://www.tgasdf.gov.tr/takvim/atli-cirit-aday-hakem-kursu-erzurum/
LOCATION:ERZURUM
END:VEVENT
BEGIN:VEVENT
DTSTART;TZID=Europe/Moscow:20250427T080000
DTEND;TZID=Europe/Moscow:20250427T180000
DTSTAMP:20260425T170210
CREATED:20250616T073953Z
LAST-MODIFIED:20250616T073953Z
UID:5002-1745740800-1745776800@www.tgasdf.gov.tr
SUMMARY:RAHVAN MÜSABAKASI (BELEDİYE) İZMİR/ÖDEMİŞ
DESCRIPTION:
URL:https://www.tgasdf.gov.tr/takvim/rahvan-musabakasi-belediye-izmir-odemis/
LOCATION:ÖDEMİŞ | İZMİR
END:VEVENT
END:VCALENDAR