BEGIN:VCALENDAR
VERSION:2.0
PRODID:-//TÜRKİYE GELENEKSEL ATLI SPOR DALLARI FEDERASYONU - ECPv6.14.2//NONSGML v1.0//EN
CALSCALE:GREGORIAN
METHOD:PUBLISH
X-ORIGINAL-URL:http://www.tgasdf.gov.tr
X-WR-CALDESC:TÜRKİYE GELENEKSEL ATLI SPOR DALLARI FEDERASYONU için etkinlikler
REFRESH-INTERVAL;VALUE=DURATION:PT1H
X-Robots-Tag:noindex
X-PUBLISHED-TTL:PT1H
BEGIN:VTIMEZONE
TZID:Europe/Moscow
BEGIN:STANDARD
TZOFFSETFROM:+0300
TZOFFSETTO:+0300
TZNAME:MSK
DTSTART:20250101T000000
END:STANDARD
END:VTIMEZONE
BEGIN:VEVENT
DTSTART;TZID=Europe/Moscow:20260423T080000
DTEND;TZID=Europe/Moscow:20260423T170000
DTSTAMP:20260424T201616
CREATED:20260217T112716Z
LAST-MODIFIED:20260311T080330Z
UID:5631-1776931200-1776963600@www.tgasdf.gov.tr
SUMMARY:23 Nisan Kupası | Ulusal Egemenlik ve Çocuk Bayramı Müsabakaları | 23 Nisan 2026 | KONYA
DESCRIPTION:
URL:http://www.tgasdf.gov.tr/takvim/23-nisan-kupasi-ulusal-egemenlik-ve-cocuk-bayrami-musabakalari-23-nisan-2026-konya/
LOCATION:KONYA
CATEGORIES:Atlı Okçuluk 2026
END:VEVENT
BEGIN:VEVENT
DTSTART;TZID=Europe/Moscow:20260411T080000
DTEND;TZID=Europe/Moscow:20260412T170000
DTSTAMP:20260424T201616
CREATED:20260403T072647Z
LAST-MODIFIED:20260403T072647Z
UID:5868-1775894400-1776013200@www.tgasdf.gov.tr
SUMMARY:Atlı Cirit Aday Hakem Kursu | 11-12 Nisan 2026 | Muhtelif İller
DESCRIPTION:Atlı Cirit Aday Hakem Kursu Ön Talep Formu
URL:http://www.tgasdf.gov.tr/takvim/atli-cirit-aday-hakem-kursu-11-12-nisan-2026-muhtelif-iller/
LOCATION:TÜRKİYE
END:VEVENT
BEGIN:VEVENT
DTSTART;TZID=Europe/Moscow:20260407T100000
DTEND;TZID=Europe/Moscow:20260408T170000
DTSTAMP:20260424T201616
CREATED:20260403T072338Z
LAST-MODIFIED:20260403T072338Z
UID:5866-1775556000-1775667600@www.tgasdf.gov.tr
SUMMARY:Atlı Cirit Aday Hakem Kursu | 07-08 Nisan 2026 | UŞAK
DESCRIPTION:
URL:http://www.tgasdf.gov.tr/takvim/atli-cirit-aday-hakem-kursu-07-08-nisan-2026-usak/
LOCATION:UŞAK
END:VEVENT
BEGIN:VEVENT
DTSTART;TZID=Europe/Moscow:20260331T080000
DTEND;TZID=Europe/Moscow:20260331T170000
DTSTAMP:20260424T201616
CREATED:20260331T094958Z
LAST-MODIFIED:20260331T094958Z
UID:5792-1774944000-1774976400@www.tgasdf.gov.tr
SUMMARY:Rahvan Binicilik Federasyon Müsabakaları 30.08.2026 | AFYON
DESCRIPTION:
URL:http://www.tgasdf.gov.tr/takvim/rahvan-binicilik-federasyon-musabakalari-30-08-2026-afyon/
LOCATION:AFYON
CATEGORIES:Rahvan Binicilik 2026
END:VEVENT
BEGIN:VEVENT
DTSTART;TZID=Europe/Moscow:20260328T140000
DTEND;TZID=Europe/Moscow:20260328T170000
DTSTAMP:20260424T201616
CREATED:20260327T085430Z
LAST-MODIFIED:20260327T085839Z
UID:5739-1774706400-1774717200@www.tgasdf.gov.tr
SUMMARY:ERCİYES KÖKBÖRÜ MÜSABAKALARI 2026 | Erciyes Kayak Merkezi Tekir Yaylası 28 Mart 2026
DESCRIPTION:
URL:http://www.tgasdf.gov.tr/takvim/erciyes-kokboru-musabakalari-2026-erciyes-kayak-merkezi-tekir-yaylasi-29-mart-2026/
LOCATION:KAYSERİ
CATEGORIES:Kökbörü
END:VEVENT
BEGIN:VEVENT
DTSTART;TZID=Europe/Moscow:20260324T080000
DTEND;TZID=Europe/Moscow:20260330T170000
DTSTAMP:20260424T201616
CREATED:20260217T110936Z
LAST-MODIFIED:20260327T085502Z
UID:5612-1774339200-1774890000@www.tgasdf.gov.tr
SUMMARY:Atlı Okçuluk III. Kademe Antrenör Kursu (İLERİ BİR TARİHE ERTELENDİ) | Nevşehir
DESCRIPTION:
URL:http://www.tgasdf.gov.tr/takvim/atli-okculuk-iii-kademe-antrenor-kursu-23-03-2026-29-03-2026-nevsehir/
LOCATION:NEVŞEHİR
CATEGORIES:Atlı Okçuluk 2026
END:VEVENT
BEGIN:VEVENT
DTSTART;TZID=Europe/Moscow:20260302T160000
DTEND;TZID=Europe/Moscow:20260302T180000
DTSTAMP:20260424T201616
CREATED:20260217T110251Z
LAST-MODIFIED:20260218T175310Z
UID:5608-1772467200-1772474400@www.tgasdf.gov.tr
SUMMARY:Atlı Okçuluk Antrenör Gelişim Semineri 2 (online)
DESCRIPTION:
URL:http://www.tgasdf.gov.tr/takvim/atli-okculuk-antrenor-gelisim-semineri-2-online/
LOCATION:ONLİNE
CATEGORIES:Atlı Okçuluk 2026
END:VEVENT
BEGIN:VEVENT
DTSTART;TZID=Europe/Moscow:20260217T000000
DTEND;TZID=Europe/Moscow:20260217T000000
DTSTAMP:20260424T201616
CREATED:20260217T112409Z
LAST-MODIFIED:20260217T121446Z
UID:5628-1771286400-1771286400@www.tgasdf.gov.tr
SUMMARY:Atlı Okçuluk 23 Nisan Ulusal Egemenlik ve Çocuk Bayramı Kupası | 23 Nisan 2026 | KONYA
DESCRIPTION:
URL:http://www.tgasdf.gov.tr/takvim/atli-okculuk-23-nisan-ulusal-egemenlik-ve-cocuk-bayrami-kupasi-23-nisan-2026-konya/
CATEGORIES:Atlı Okçuluk 2026
END:VEVENT
BEGIN:VEVENT
DTSTART;TZID=Europe/Moscow:20260123T160000
DTEND;TZID=Europe/Moscow:20260123T200000
DTSTAMP:20260424T201616
CREATED:20260217T110201Z
LAST-MODIFIED:20260217T111230Z
UID:5605-1769184000-1769198400@www.tgasdf.gov.tr
SUMMARY:Atlı Okçuluk Antrenör Gelişim Semineri - 1
DESCRIPTION:
URL:http://www.tgasdf.gov.tr/takvim/atli-okculuk-antrenor-gelisim-semineri-1/
LOCATION:ONLİNE
CATEGORIES:Atlı Okçuluk 2026
END:VEVENT
BEGIN:VEVENT
DTSTART;TZID=Europe/Moscow:20251026T080000
DTEND;TZID=Europe/Moscow:20251026T180000
DTSTAMP:20260424T201616
CREATED:20250616T073242Z
LAST-MODIFIED:20250616T073242Z
UID:4984-1761465600-1761501600@www.tgasdf.gov.tr
SUMMARY:RAHVAN BİNİCİLİK TÜRKİYE ŞAMPİYONASI FİNAL MÜSABAKALARI
DESCRIPTION:
URL:http://www.tgasdf.gov.tr/takvim/rahvan-binicilik-turkiye-sampiyonasi-final-musabakalari/
END:VEVENT
BEGIN:VEVENT
DTSTART;TZID=Europe/Moscow:20251019T080000
DTEND;TZID=Europe/Moscow:20251019T180000
DTSTAMP:20260424T201616
CREATED:20250616T073136Z
LAST-MODIFIED:20250616T073136Z
UID:4981-1760860800-1760896800@www.tgasdf.gov.tr
SUMMARY:RAHVAN BİNİCİLİK MÜSABAKASI (BELEDİYE) İZMİR/ÇAYLI
DESCRIPTION:
URL:http://www.tgasdf.gov.tr/takvim/rahvan-binicilik-musabakasi-belediye-izmir-cayli/
LOCATION:ÇAYLI | İZMİR
END:VEVENT
BEGIN:VEVENT
DTSTART;TZID=Europe/Moscow:20251012T080000
DTEND;TZID=Europe/Moscow:20251012T180000
DTSTAMP:20260424T201616
CREATED:20250616T073037Z
LAST-MODIFIED:20250616T073037Z
UID:4979-1760256000-1760292000@www.tgasdf.gov.tr
SUMMARY:RAHVAN BİNİCİLİK MÜSABAKASI (FEDERASYON) ANTALYA/SİDE
DESCRIPTION:
URL:http://www.tgasdf.gov.tr/takvim/rahvan-binicilik-musabakasi-federasyon-antalya-side/
LOCATION:SİDE | ANTALYA
END:VEVENT
BEGIN:VEVENT
DTSTART;TZID=Europe/Moscow:20251005T080000
DTEND;TZID=Europe/Moscow:20251005T180000
DTSTAMP:20260424T201616
CREATED:20250616T072858Z
LAST-MODIFIED:20250616T072858Z
UID:4977-1759651200-1759687200@www.tgasdf.gov.tr
SUMMARY:RAHVAN BİNİCİLİK MÜSABAKASI (FEDERASYON) İZMİR/ÖDEMİŞ
DESCRIPTION:
URL:http://www.tgasdf.gov.tr/takvim/rahvan-binicilik-musabakasi-federasyon-izmir-odemis/
LOCATION:ÖDEMİŞ | İZMİR
END:VEVENT
BEGIN:VEVENT
DTSTART;TZID=Europe/Moscow:20250928T080000
DTEND;TZID=Europe/Moscow:20250928T180000
DTSTAMP:20260424T201616
CREATED:20250616T072813Z
LAST-MODIFIED:20250616T072813Z
UID:4975-1759046400-1759082400@www.tgasdf.gov.tr
SUMMARY:RAHVAN BİNİCİLİK MÜSABAKASI (BELEDİYE) İZMİR/MENEMEN
DESCRIPTION:
URL:http://www.tgasdf.gov.tr/takvim/rahvan-binicilik-musabakasi-belediye-izmir-menemen/
LOCATION:MENEMEN | İZMİR
END:VEVENT
BEGIN:VEVENT
DTSTART;TZID=Europe/Moscow:20250928T080000
DTEND;TZID=Europe/Moscow:20250928T180000
DTSTAMP:20260424T201616
CREATED:20250616T072720Z
LAST-MODIFIED:20250616T072720Z
UID:4972-1759046400-1759082400@www.tgasdf.gov.tr
SUMMARY:RAHVAN BİNİCİLİK MÜSABAKASI (BELEDİYE) TRABZON
DESCRIPTION:
URL:http://www.tgasdf.gov.tr/takvim/rahvan-binicilik-musabakasi-belediye-trabzon/
LOCATION:TRABZON
END:VEVENT
BEGIN:VEVENT
DTSTART;TZID=Europe/Moscow:20250921T080000
DTEND;TZID=Europe/Moscow:20250921T180000
DTSTAMP:20260424T201616
CREATED:20250616T072634Z
LAST-MODIFIED:20250616T072634Z
UID:4969-1758441600-1758477600@www.tgasdf.gov.tr
SUMMARY:RAHVAN BİNİCİLİK MÜSABAKASI (BELEDİYE) BALIKESİR/İVRİNDİ
DESCRIPTION:
URL:http://www.tgasdf.gov.tr/takvim/rahvan-binicilik-musabakasi-belediye-balikesir-ivrindi/
LOCATION:İVRİNDİ | BALIKESİR
END:VEVENT
BEGIN:VEVENT
DTSTART;TZID=Europe/Moscow:20250914T080000
DTEND;TZID=Europe/Moscow:20250914T180000
DTSTAMP:20260424T201616
CREATED:20250616T071817Z
LAST-MODIFIED:20250616T071817Z
UID:4966-1757836800-1757872800@www.tgasdf.gov.tr
SUMMARY:RAHVAN BİNİCİLİK MÜSABAKASI (BELEDİYE) BALIKESİR/AYVALIK
DESCRIPTION:
URL:http://www.tgasdf.gov.tr/takvim/rahvan-binicilik-musabakasi-belediye-balikesir-ayvalik/
LOCATION:AYVALIK | BALIKESİR
END:VEVENT
BEGIN:VEVENT
DTSTART;TZID=Europe/Moscow:20250914T080000
DTEND;TZID=Europe/Moscow:20250914T180000
DTSTAMP:20260424T201616
CREATED:20250616T071626Z
LAST-MODIFIED:20250616T071626Z
UID:4964-1757836800-1757872800@www.tgasdf.gov.tr
SUMMARY:RAHVAN BİNİCİLİK MÜSABAKASI (FEDERASYON) ÇORUM/OSMANCIK
DESCRIPTION:
URL:http://www.tgasdf.gov.tr/takvim/rahvan-binicilik-musabakasi-federasyon-corum-osmancik/
LOCATION:OSMANCIK | ÇORUM
END:VEVENT
BEGIN:VEVENT
DTSTART;TZID=Europe/Moscow:20250907T080000
DTEND;TZID=Europe/Moscow:20250907T180000
DTSTAMP:20260424T201616
CREATED:20250616T071544Z
LAST-MODIFIED:20250616T071544Z
UID:4961-1757232000-1757268000@www.tgasdf.gov.tr
SUMMARY:RAHVAN BİNİCİLİK MÜSABAKASI (BELEDİYE) İZMİR/TİRE
DESCRIPTION:
URL:http://www.tgasdf.gov.tr/takvim/rahvan-binicilik-musabakasi-belediye-izmir-tire/
LOCATION:TİRE | İZMİR
END:VEVENT
BEGIN:VEVENT
DTSTART;TZID=Europe/Moscow:20250907T080000
DTEND;TZID=Europe/Moscow:20250907T180000
DTSTAMP:20260424T201616
CREATED:20250616T071434Z
LAST-MODIFIED:20250616T071434Z
UID:4958-1757232000-1757268000@www.tgasdf.gov.tr
SUMMARY:RAHVAN BİNİCİLİK MÜSABAKASI (FEDERASYON+BELEDİYE) BURSA/ORHANELİ
DESCRIPTION:
URL:http://www.tgasdf.gov.tr/takvim/rahvan-binicilik-musabakasi-federasyonbelediye-bursa-orhaneli/
LOCATION:ORHANELİ | BURSA
END:VEVENT
BEGIN:VEVENT
DTSTART;TZID=Europe/Moscow:20250831T080000
DTEND;TZID=Europe/Moscow:20250831T180000
DTSTAMP:20260424T201616
CREATED:20250616T071336Z
LAST-MODIFIED:20250616T071336Z
UID:4956-1756627200-1756663200@www.tgasdf.gov.tr
SUMMARY:RAHVAN BİNİCİLİK MÜSABAKASI (FEDERASYON) KOCAELİ/GÖLCÜK
DESCRIPTION:
URL:http://www.tgasdf.gov.tr/takvim/rahvan-binicilik-musabakasi-federasyon-kocaeli-golcuk/
LOCATION:GÖLCÜK | KOCAELİ
END:VEVENT
BEGIN:VEVENT
DTSTART;TZID=Europe/Moscow:20250831T080000
DTEND;TZID=Europe/Moscow:20250831T180000
DTSTAMP:20260424T201616
CREATED:20250616T071233Z
LAST-MODIFIED:20250616T071233Z
UID:4954-1756627200-1756663200@www.tgasdf.gov.tr
SUMMARY:RAHVAN BİNİCİLİK MÜSABAKASI (BELEDİYE) DENİZLİ/TAVAS
DESCRIPTION:
URL:http://www.tgasdf.gov.tr/takvim/rahvan-binicilik-musabakasi-belediye-denizli-tavas/
LOCATION:TAVAS | DENİZLİ
END:VEVENT
BEGIN:VEVENT
DTSTART;TZID=Europe/Moscow:20250824T080000
DTEND;TZID=Europe/Moscow:20250824T180000
DTSTAMP:20260424T201616
CREATED:20250616T071148Z
LAST-MODIFIED:20250620T085657Z
UID:4952-1756022400-1756058400@www.tgasdf.gov.tr
SUMMARY:RAHVAN BİNİCİLİK MÜSABAKASI (FEDERASYON) ERZURUM
DESCRIPTION:
URL:http://www.tgasdf.gov.tr/takvim/rahvan-binicilik-musabakasi-federasyon-erzurum/
LOCATION:ERZURUM
END:VEVENT
BEGIN:VEVENT
DTSTART;TZID=Europe/Moscow:20250824T080000
DTEND;TZID=Europe/Moscow:20250824T180000
DTSTAMP:20260424T201616
CREATED:20250616T071100Z
LAST-MODIFIED:20250616T071100Z
UID:4949-1756022400-1756058400@www.tgasdf.gov.tr
SUMMARY:RAHVAN BİNİCİLİK MÜSABAKASI (FEDERASYON) AFYON
DESCRIPTION:
URL:http://www.tgasdf.gov.tr/takvim/rahvan-binicilik-musabakasi-federasyon-afyon/
LOCATION:AFYON
END:VEVENT
BEGIN:VEVENT
DTSTART;TZID=Europe/Moscow:20250823T080000
DTEND;TZID=Europe/Moscow:20250824T170000
DTSTAMP:20260424T201616
CREATED:20250616T070646Z
LAST-MODIFIED:20250807T095251Z
UID:4947-1755936000-1756054800@www.tgasdf.gov.tr
SUMMARY:ATLI OKÇULUK TÜRKİYE ŞAMPİYONASI FİNAL MÜSABAKASI | MALAZGİRT
DESCRIPTION:
URL:http://www.tgasdf.gov.tr/takvim/atli-okculuk-turkiye-sampiyonasi-final-musabakasi-konya/
LOCATION:MALAZGİRT | MUŞ
END:VEVENT
BEGIN:VEVENT
DTSTART;TZID=Europe/Moscow:20250817T080000
DTEND;TZID=Europe/Moscow:20250817T180000
DTSTAMP:20260424T201616
CREATED:20250616T070545Z
LAST-MODIFIED:20250616T070545Z
UID:4945-1755417600-1755453600@www.tgasdf.gov.tr
SUMMARY:RAHVAN BİNİCİLİK MÜSABAKASI (FEDERASYON) KÜTAHYA
DESCRIPTION:
URL:http://www.tgasdf.gov.tr/takvim/rahvan-binicilik-musabakasi-federasyon-kutahya/
LOCATION:KÜTAHYA
END:VEVENT
BEGIN:VEVENT
DTSTART;TZID=Europe/Moscow:20250817T080000
DTEND;TZID=Europe/Moscow:20250817T180000
DTSTAMP:20260424T201616
CREATED:20250616T070457Z
LAST-MODIFIED:20250616T070457Z
UID:4942-1755417600-1755453600@www.tgasdf.gov.tr
SUMMARY:RAHVAN BİNİCİLİK MÜSABAKASI (BELEDİYE) GAZİANTEP
DESCRIPTION:
URL:http://www.tgasdf.gov.tr/takvim/rahvan-binicilik-musabakasi-belediye-gaziantep/
LOCATION:GAZİANTEP
END:VEVENT
BEGIN:VEVENT
DTSTART;TZID=Europe/Moscow:20250810T080000
DTEND;TZID=Europe/Moscow:20250810T180000
DTSTAMP:20260424T201616
CREATED:20250616T070409Z
LAST-MODIFIED:20250616T070409Z
UID:4940-1754812800-1754848800@www.tgasdf.gov.tr
SUMMARY:RAHVAN BİNİCİLİK MÜSABAKASI (FEDERASYON) BURSA
DESCRIPTION:
URL:http://www.tgasdf.gov.tr/takvim/rahvan-binicilik-musabakasi-federasyon-bursa/
LOCATION:BURSA
END:VEVENT
BEGIN:VEVENT
DTSTART;TZID=Europe/Moscow:20250809T080000
DTEND;TZID=Europe/Moscow:20250810T170000
DTSTAMP:20260424T201616
CREATED:20250616T070329Z
LAST-MODIFIED:20250616T070329Z
UID:4938-1754726400-1754845200@www.tgasdf.gov.tr
SUMMARY:ATLI OKÇULUK YARI FİNAL MÜSABAKASI BALIKESİR
DESCRIPTION:
URL:http://www.tgasdf.gov.tr/takvim/atli-okculuk-yari-final-musabakasi-balikesir/
LOCATION:BALIKESİR
END:VEVENT
BEGIN:VEVENT
DTSTART;TZID=Europe/Moscow:20250809T080000
DTEND;TZID=Europe/Moscow:20250810T170000
DTSTAMP:20260424T201616
CREATED:20250616T070252Z
LAST-MODIFIED:20250616T070252Z
UID:4936-1754726400-1754845200@www.tgasdf.gov.tr
SUMMARY:ATLI OKÇULUK YARI FİNAL MÜSABAKASI ANKARA
DESCRIPTION:
URL:http://www.tgasdf.gov.tr/takvim/atli-okculuk-yari-final-musabakasi-ankara/
LOCATION:ANKARA
END:VEVENT
END:VCALENDAR